BEGIN:VCALENDAR
VERSION:2.0
PRODID:-//the Broome Street Bands - ECPv6.15.20//NONSGML v1.0//EN
CALSCALE:GREGORIAN
METHOD:PUBLISH
X-WR-CALNAME:the Broome Street Bands
X-ORIGINAL-URL:https://broomestreetbands.org/wp682
X-WR-CALDESC:Events for the Broome Street Bands
REFRESH-INTERVAL;VALUE=DURATION:PT1H
X-Robots-Tag:noindex
X-PUBLISHED-TTL:PT1H
BEGIN:VTIMEZONE
TZID:America/New_York
BEGIN:DAYLIGHT
TZOFFSETFROM:-0500
TZOFFSETTO:-0400
TZNAME:EDT
DTSTART:20240310T070000
END:DAYLIGHT
BEGIN:STANDARD
TZOFFSETFROM:-0400
TZOFFSETTO:-0500
TZNAME:EST
DTSTART:20241103T060000
END:STANDARD
BEGIN:DAYLIGHT
TZOFFSETFROM:-0500
TZOFFSETTO:-0400
TZNAME:EDT
DTSTART:20250309T070000
END:DAYLIGHT
BEGIN:STANDARD
TZOFFSETFROM:-0400
TZOFFSETTO:-0500
TZNAME:EST
DTSTART:20251102T060000
END:STANDARD
BEGIN:DAYLIGHT
TZOFFSETFROM:-0500
TZOFFSETTO:-0400
TZNAME:EDT
DTSTART:20260308T070000
END:DAYLIGHT
BEGIN:STANDARD
TZOFFSETFROM:-0400
TZOFFSETTO:-0500
TZNAME:EST
DTSTART:20261101T060000
END:STANDARD
END:VTIMEZONE
BEGIN:VEVENT
DTSTART;TZID=America/New_York:20250928T140000
DTEND;TZID=America/New_York:20250928T153000
DTSTAMP:20260419T193707
CREATED:20250912T133900Z
LAST-MODIFIED:20250923T123739Z
UID:52-1759068000-1759073400@broomestreetbands.org
SUMMARY:32nd Annual Fall Foliage Festival\, Port Jervis NY
DESCRIPTION:The wind ensemble will perform a concert during the 32nd Annual Fall Foliage Festival which takes place in downtown Port Jervis on September 28th. We will set up in the street on Ball Street at the intersection of Sussex Street (next to Aliton’s Pharmacy and Chase Bank). Brassanova and euphonium masters Brad and Ada will also perform some songs. The concert will start at 2:00pm. Musicians should bring their music and a stand and be there ready to play by 1:30pm. The church will be open by 12:30pm for those needing to pick up equipment etc. Chairs and a tent will be provided for us.\nConcert Dress: black top and black or neutral bottoms \nHere is the concert’s music/performance list (in order): \n\nStar Spangled Banner (J. Stamp version)\nSeptember Song\nHoe Down\nLes Miserables\nBrad and Ada perform some songs\nBeatles Love\nChicago\nOver the Rainbow\nSeventy Six Trombones\nBasses on a Rampage\nMaelstrom\nBrassanova performs some songs\nPhantom Regiment\nFireman’s Grand March
URL:https://broomestreetbands.org/wp682/event/32nd-annual-fall-foliage-festival-port-jervis-ny/
LOCATION:Ball and Sussex Streets Port Jervis\, 12 Sussex Street\, Port Jervis\, 12771\, United States
CATEGORIES:Concert,Performance,Wind Ensemble
END:VEVENT
END:VCALENDAR