BEGIN:VCALENDAR
VERSION:2.0
PRODID:-//the Broome Street Bands - ECPv6.15.20//NONSGML v1.0//EN
CALSCALE:GREGORIAN
METHOD:PUBLISH
X-WR-CALNAME:the Broome Street Bands
X-ORIGINAL-URL:https://broomestreetbands.org/wp682
X-WR-CALDESC:Events for the Broome Street Bands
REFRESH-INTERVAL;VALUE=DURATION:PT1H
X-Robots-Tag:noindex
X-PUBLISHED-TTL:PT1H
BEGIN:VTIMEZONE
TZID:America/New_York
BEGIN:DAYLIGHT
TZOFFSETFROM:-0500
TZOFFSETTO:-0400
TZNAME:EDT
DTSTART:20240310T070000
END:DAYLIGHT
BEGIN:STANDARD
TZOFFSETFROM:-0400
TZOFFSETTO:-0500
TZNAME:EST
DTSTART:20241103T060000
END:STANDARD
BEGIN:DAYLIGHT
TZOFFSETFROM:-0500
TZOFFSETTO:-0400
TZNAME:EDT
DTSTART:20250309T070000
END:DAYLIGHT
BEGIN:STANDARD
TZOFFSETFROM:-0400
TZOFFSETTO:-0500
TZNAME:EST
DTSTART:20251102T060000
END:STANDARD
BEGIN:DAYLIGHT
TZOFFSETFROM:-0500
TZOFFSETTO:-0400
TZNAME:EDT
DTSTART:20260308T070000
END:DAYLIGHT
BEGIN:STANDARD
TZOFFSETFROM:-0400
TZOFFSETTO:-0500
TZNAME:EST
DTSTART:20261101T060000
END:STANDARD
END:VTIMEZONE
BEGIN:VEVENT
DTSTART;TZID=America/New_York:20251116T140000
DTEND;TZID=America/New_York:20251116T160000
DTSTAMP:20260419T180713
CREATED:20250912T134604Z
LAST-MODIFIED:20251103T114610Z
UID:57-1763301600-1763308800@broomestreetbands.org
SUMMARY:Free Concert to Honor American Veterans and Service Members
DESCRIPTION:Free Concert to honor Veterans and Service Members – click to download a printable pdf file of this flyer. We will perform a concert of patriotic and American music on Sunday\, November 16th at VFW Post 161 in Port Jervis beginning at 3pm. Brassanova and the trombone quartet will also perform a few songs. \nConcert dress – black band shirt or other black shirt\, black or khaki bottoms. Please bring your stand and music. Chairs will be provided.\nMusicians\, plan to be there\, in your seat and ready to play by 2pm. Drew church will be open at 1:00pm for those who need to load equipment or grab a stand and your music. \nThe VFW Post 161 address is:\n47 Owen Street\nPort Jervis\, NY 12771
URL:https://broomestreetbands.org/wp682/event/free-concert-to-honor-american-veterans-and-service-members/
LOCATION:VFW Post 161\, 47 Owen St\, \, NY 12771\, Port Jervis\, NY\, 12771\, United States
CATEGORIES:Brassanova,Concert,Performance,Wind Ensemble
END:VEVENT
END:VCALENDAR